{"text_format":"2","workbook":"xlsx","n_sheets":6,"sheets":["入力シート","参加申込書","メンバー提出用紙","パンフ用","交代票","チェックシート（参加チーム用）"],"not_rendered":{"charts":0,"images":0,"macros":0,"external_links":0,"defined_names":2,"comments":1,"pivot_tables":0},"unopened":[],"bounds":{"document_bytes":16777216,"sheet_cells":100000,"run_cost":"one","rows_first":2000,"rows_last":500,"rows_between":2000,"halvings":0,"cell_chars":16384,"cell_head_chars":4096},"cells_cut":0,"cells_raw":0,"read":"whole","date_system":"1900"}

{"sheet":"入力シート","index":0,"n_rows":48,"n_cols":13,"rows_kept":48,"cut":false,"hidden":false,"merged":[[17,1,17,2],[14,1,14,2],[15,1,15,2],[16,1,16,2],[43,2,43,3],[16,3,16,4],[23,3,23,4],[24,3,24,4],[26,3,26,4],[17,3,17,4],[44,2,44,3],[12,1,12,2],[13,1,13,2],[18,1,18,2],[18,3,18,4],[35,1,37,1],[38,1,40,1],[21,3,21,4],[21,1,23,1],[24,1,26,1],[29,1,31,1],[32,1,34,1],[12,3,12,4],[13,3,13,4],[14,3,14,4],[15,3,15,4],[0,1,0,9],[8,1,8,7],[7,1,7,7],[1,1,1,7],[2,1,2,7],[4,1,4,7],[5,1,5,7],[3,1,3,7]]}
[null,"～ 手順 ～\n\n\n"]
[null,"①入力シートに各種情報を入力する。(入力はこのシートのみです。)"]
[]
[]
[null,"②ファイル全体をメールにて送信する。（txxxm0410＠gmail.com)"]
[null,"メール件名及びファイル名：【〇〇〇（チーム名）】市U13申込　　例：【甲南中】市U13申込"]
[]
[null,"令和３年度　第３６回　鹿児島市U-13サッカー大会"]
[null,"参加申込書作成用　入力シート"]
[]
[]
[null,"チーム情報"]
[null,"チーム名",null,null,null,"←記入例；〇〇中（××中学校はNG）"]
[null,"緊急連絡先",null,null,null,"←記入例；090-1234-5678（ハイフンあり）"]
[null,"監督氏名",null,null,null,"←姓と名の間は1文字あける"]
[null,"コーチ氏名①"]
[null,"コーチ氏名②"]
[null,"感染症対策者氏名"]
[null,"責任代表者氏名",null,null,null,"←例：校長，社長，チーム代表等"]
[]
[null,"帯同審判員情報"]
[null,"審判員①","氏名",{"$nulls":8},"審判級",1]
[null,null,"審判資格",null,"級",{"$nulls":7},2]
[null,null,"携帯℡",{"$nulls":9},3]
[null,"審判員②","氏名",{"$nulls":9},4]
[null,null,"審判資格",null,"級",{"$nulls":7},"無"]
[null,null,"携帯℡"]
[]
[null,"ユニホーム情報"]
[null,"FP正","シャツ",{"$nulls":8},"位置","GK"]
[null,null,"ショーツ",{"$nulls":9},"DF"]
[null,null,"ソックス",{"$nulls":9},"MF"]
[null,"FP副","シャツ",{"$nulls":9},"FW"]
[null,null,"ショーツ"]
[null,null,"ソックス"]
[null,"GK正","シャツ"]
[null,null,"ショーツ",{"$nulls":8},"学年",3]
[null,null,"ソックス",{"$nulls":9},2]
[null,"GK副","シャツ",{"$nulls":9},1]
[null,null,"ショーツ",{"$nulls":9},"小6"]
[null,null,"ソックス"]
[]
[null,"主将名"]
[null,"背番号"]
[null,"氏名"]
[]
[null,"選手情報"]
[null,"背番号","位置","氏名","学年","選手登録番号","備考"]

{"sheet":"参加申込書","index":1,"n_rows":38,"n_cols":28,"rows_kept":38,"cut":false,"hidden":false,"merged":[[0,0,1,23],[0,24,1,31],[2,0,2,3],[2,4,2,14],[2,15,2,22],[2,23,2,31],[10,5,10,16],[3,0,3,3],[3,4,3,12],[3,13,3,16],[3,17,3,23],[3,24,3,31],[4,0,4,5],[4,6,4,12],[4,16,4,20],[4,21,4,31],[5,0,5,5],[5,6,5,12],[5,16,5,20],[5,21,5,31],[6,0,8,2],[6,3,6,4],[6,5,6,8],[6,9,6,12],[6,13,6,16],[6,17,6,21],[6,22,6,26],[6,27,6,31],[7,3,7,4],[7,5,7,8],[7,9,7,12],[7,13,7,16],[7,17,7,21],[7,22,7,26],[7,27,7,31],[8,27,8,31],[9,0,9,2],[9,3,9,4],[9,5,9,10],[9,11,9,16],[9,17,9,18],[9,19,9,26],[9,27,9,31],[8,3,8,4],[8,5,8,8],[8,9,8,12],[8,13,8,16],[8,17,8,21],[8,22,8,26],[10,27,10,31],[11,0,11,2],[11,3,11,4],[11,17,11,18],[11,19,11,26],[11,27,11,31],[10,0,10,2],[10,3,10,4],[10,17,10,18],[10,19,10,26],[11,5,11,16],[12,27,12,31],[13,0,13,2],[13,3,13,4],[13,17,13,18],[13,19,13,26],[13,27,13,31],[12,0,12,2],[12,3,12,4],[12,17,12,18],[12,19,12,26],[12,5,12,16],[13,5,13,16],[14,27,14,31],[15,0,15,2],[15,3,15,4],[15,17,15,18],[15,19,15,26],[15,27,15,31],[14,0,14,2],[14,3,14,4],[14,17,14,18],[14,19,14,26],[14,5,14,16],[15,5,15,16],[16,27,16,31],[17,0,17,2],[17,3,17,4],[17,17,17,18],[17,19,17,26],[17,27,17,31],[16,0,16,2],[16,3,16,4],[16,17,16,18],[16,19,16,26],[16,5,16,16],[17,5,17,16],[18,27,18,31],[19,0,19,2],[19,3,19,4],[19,17,19,18],[19,19,19,26],[19,27,19,31],[18,0,18,2],[18,3,18,4],[18,17,18,18],[18,19,18,26],[18,5,18,16],[19,5,19,16],[20,27,20,31],[21,0,21,2],[21,3,21,4],[21,17,21,18],[21,19,21,26],[21,27,21,31],[20,0,20,2],[20,3,20,4],[20,17,20,18],[20,19,20,26],[20,5,20,16],[21,5,21,16],[22,27,22,31],[23,0,23,2],[23,3,23,4],[23,17,23,18],[23,19,23,26],[23,27,23,31],[22,0,22,2],[22,3,22,4],[22,17,22,18],[22,19,22,26],[22,5,22,16],[23,5,23,16],[24,27,24,31],[25,0,25,2],[25,3,25,4],[25,17,25,18],[25,19,25,26],[25,27,25,31],[24,0,24,2],[24,3,24,4],[24,17,24,18],[24,19,24,26],[24,5,24,16],[25,5,25,16],[26,27,26,31],[27,0,27,2],[27,3,27,4],[27,17,27,18],[27,19,27,26],[27,27,27,31],[26,0,26,2],[26,3,26,4],[26,17,26,18],[26,19,26,26],[26,5,26,16],[27,5,27,16],[28,27,28,31],[29,0,29,2],[29,3,29,4],[29,17,29,18],[29,19,29,26],[29,27,29,31],[28,0,28,2],[28,3,28,4],[28,17,28,18],[28,19,28,26],[28,5,28,16],[29,5,29,16],[30,27,30,31],[31,0,31,2],[31,3,31,4],[31,17,31,18],[31,19,31,26],[31,27,31,31],[30,0,30,2],[30,3,30,4],[30,17,30,18],[30,19,30,26],[30,5,30,16],[31,5,31,16],[32,27,32,31],[33,0,33,2],[33,3,33,4],[33,17,33,18],[33,19,33,26],[33,27,33,31],[32,0,32,2],[32,3,32,4],[32,17,32,18],[32,19,32,26],[32,5,32,16],[33,5,33,16],[34,27,34,31],[36,1,36,14],[36,20,37,28],[37,16,37,19],[34,0,34,2],[34,3,34,4],[34,17,34,18],[34,19,34,26],[34,5,34,16]]}
[{"$f":"入力シート!B8","v":"令和３年度　第３６回　鹿児島市U-13サッカー大会"},{"$nulls":23},"参加申込書"]
[]
["チーム名",null,null,null,{"$f":"入力シート!D13","v":0},{"$nulls":10},"緊急連絡先（携帯）TEL",{"$nulls":7},{"$f":"入力シート!D14","v":0}]
["監督",null,null,null,{"$f":"入力シート!D15","v":0},{"$nulls":8},"コーチ",null,null,null,{"$f":"入力シート!D16","v":0},{"$nulls":6},{"$f":"入力シート!D17","v":0}]
["帯同審判員名",{"$nulls":5},{"$f":"入力シート!D22","v":0},{"$nulls":6},"・",{"$f":"入力シート!D23","v":0},"級","（携帯）TEL",{"$nulls":4},{"$f":"入力シート!D24","v":0}]
["帯同審判員名",{"$nulls":5},{"$f":"入力シート!D25","v":0},{"$nulls":6},"・",{"$f":"入力シート!D26","v":0},"級","（携帯）TEL",{"$nulls":4},{"$f":"入力シート!D27","v":0}]
["ユニホーム",{"$nulls":4},"シャツ",null,null,null,"ショーツ",null,null,null,"ソックス",null,null,null,"GKシャツ",{"$nulls":4},"GKショーツ",{"$nulls":4},"GKソックス"]
[null,null,null,"正",null,{"$f":"入力シート!$D$30","v":0},null,null,null,{"$f":"入力シート!D31","v":0},null,null,null,{"$f":"入力シート!D32","v":0},null,null,null,{"$f":"入力シート!D36","v":0},{"$nulls":4},{"$f":"入力シート!D37","v":0},{"$nulls":4},{"$f":"入力シート!D38","v":0}]
[null,null,null,"副",null,{"$f":"入力シート!$D$33","v":0},null,null,null,{"$f":"入力シート!D34","v":0},null,null,null,{"$f":"入力シート!D35","v":0},null,null,null,{"$f":"入力シート!D39","v":0},{"$nulls":4},{"$f":"入力シート!D40","v":0},{"$nulls":4},{"$f":"入力シート!D41","v":0}]
["背番号",null,null,"位置",null,"氏　　",{"$nulls":5},"　　名",{"$nulls":5},"学年",null,"選手登録番号",{"$nulls":7},"備　考"]
[{"$f":"入力シート!B49","v":0},null,null,{"$f":"入力シート!C49","v":0},null,{"$f":"入力シート!D49","v":0},{"$nulls":11},{"$f":"入力シート!E49","v":0},null,{"$f":"入力シート!F49","v":0},{"$nulls":7},{"$f":"入力シート!G49","v":0}]
[{"$f":"入力シート!B50","v":0},null,null,{"$f":"入力シート!C50","v":0},null,{"$f":"入力シート!D50","v":0},{"$nulls":11},{"$f":"入力シート!E50","v":0},null,{"$f":"入力シート!F50","v":0},{"$nulls":7},{"$f":"入力シート!G50","v":0}]
[{"$f":"入力シート!B51","v":0},null,null,{"$f":"入力シート!C51","v":0},null,{"$f":"入力シート!D51","v":0},{"$nulls":11},{"$f":"入力シート!E51","v":0},null,{"$f":"入力シート!F51","v":0},{"$nulls":7},{"$f":"入力シート!G51","v":0}]
[{"$f":"入力シート!B52","v":0},null,null,{"$f":"入力シート!C52","v":0},null,{"$f":"入力シート!D52","v":0},{"$nulls":11},{"$f":"入力シート!E52","v":0},null,{"$f":"入力シート!F52","v":0},{"$nulls":7},{"$f":"入力シート!G52","v":0}]
[{"$f":"入力シート!B53","v":0},null,null,{"$f":"入力シート!C53","v":0},null,{"$f":"入力シート!D53","v":0},{"$nulls":11},{"$f":"入力シート!E53","v":0},null,{"$f":"入力シート!F53","v":0},{"$nulls":7},{"$f":"入力シート!G53","v":0}]
[{"$f":"入力シート!B54","v":0},null,null,{"$f":"入力シート!C54","v":0},null,{"$f":"入力シート!D54","v":0},{"$nulls":11},{"$f":"入力シート!E54","v":0},null,{"$f":"入力シート!F54","v":0},{"$nulls":7},{"$f":"入力シート!G54","v":0}]
[{"$f":"入力シート!B55","v":0},null,null,{"$f":"入力シート!C55","v":0},null,{"$f":"入力シート!D55","v":0},{"$nulls":11},{"$f":"入力シート!E55","v":0},null,{"$f":"入力シート!F55","v":0},{"$nulls":7},{"$f":"入力シート!G55","v":0}]
[{"$f":"入力シート!B56","v":0},null,null,{"$f":"入力シート!C56","v":0},null,{"$f":"入力シート!D56","v":0},{"$nulls":11},{"$f":"入力シート!E56","v":0},null,{"$f":"入力シート!F56","v":0},{"$nulls":7},{"$f":"入力シート!G56","v":0}]
[{"$f":"入力シート!B57","v":0},null,null,{"$f":"入力シート!C57","v":0},null,{"$f":"入力シート!D57","v":0},{"$nulls":11},{"$f":"入力シート!E57","v":0},null,{"$f":"入力シート!F57","v":0},{"$nulls":7},{"$f":"入力シート!G57","v":0}]
[{"$f":"入力シート!B58","v":0},null,null,{"$f":"入力シート!C58","v":0},null,{"$f":"入力シート!D58","v":0},{"$nulls":11},{"$f":"入力シート!E58","v":0},null,{"$f":"入力シート!F58","v":0},{"$nulls":7},{"$f":"入力シート!G58","v":0}]
[{"$f":"入力シート!B59","v":0},null,null,{"$f":"入力シート!C59","v":0},null,{"$f":"入力シート!D59","v":0},{"$nulls":11},{"$f":"入力シート!E59","v":0},null,{"$f":"入力シート!F59","v":0},{"$nulls":7},{"$f":"入力シート!G59","v":0}]
[{"$f":"入力シート!B60","v":0},null,null,{"$f":"入力シート!C60","v":0},null,{"$f":"入力シート!D60","v":0},{"$nulls":11},{"$f":"入力シート!E60","v":0},null,{"$f":"入力シート!F60","v":0},{"$nulls":7},{"$f":"入力シート!G60","v":0}]
[{"$f":"入力シート!B61","v":0},null,null,{"$f":"入力シート!C61","v":0},null,{"$f":"入力シート!D61","v":0},{"$nulls":11},{"$f":"入力シート!E61","v":0},null,{"$f":"入力シート!F61","v":0},{"$nulls":7},{"$f":"入力シート!G61","v":0}]
[{"$f":"入力シート!B62","v":0},null,null,{"$f":"入力シート!C62","v":0},null,{"$f":"入力シート!D62","v":0},{"$nulls":11},{"$f":"入力シート!E62","v":0},null,{"$f":"入力シート!F62","v":0},{"$nulls":7},{"$f":"入力シート!G62","v":0}]
[{"$f":"入力シート!B63","v":0},null,null,{"$f":"入力シート!C63","v":0},null,{"$f":"入力シート!D63","v":0},{"$nulls":11},{"$f":"入力シート!E63","v":0},null,{"$f":"入力シート!F63","v":0},{"$nulls":7},{"$f":"入力シート!G63","v":0}]
[{"$f":"入力シート!B64","v":0},null,null,{"$f":"入力シート!C64","v":0},null,{"$f":"入力シート!D64","v":0},{"$nulls":11},{"$f":"入力シート!E64","v":0},null,{"$f":"入力シート!F64","v":0},{"$nulls":7},{"$f":"入力シート!G64","v":0}]
[{"$f":"入力シート!B65","v":0},null,null,{"$f":"入力シート!C65","v":0},null,{"$f":"入力シート!D65","v":0},{"$nulls":11},{"$f":"入力シート!E65","v":0},null,{"$f":"入力シート!F65","v":0},{"$nulls":7},{"$f":"入力シート!G65","v":0}]
[{"$f":"入力シート!B66","v":0},null,null,{"$f":"入力シート!C66","v":0},null,{"$f":"入力シート!D66","v":0},{"$nulls":11},{"$f":"入力シート!E66","v":0},null,{"$f":"入力シート!F66","v":0},{"$nulls":7},{"$f":"入力シート!G66","v":0}]
[{"$f":"入力シート!B67","v":0},null,null,{"$f":"入力シート!C67","v":0},null,{"$f":"入力シート!D67","v":0},{"$nulls":11},{"$f":"入力シート!E67","v":0},null,{"$f":"入力シート!F67","v":0},{"$nulls":7},{"$f":"入力シート!G67","v":0}]
[{"$f":"入力シート!B68","v":0},null,null,{"$f":"入力シート!C68","v":0},null,{"$f":"入力シート!D68","v":0},{"$nulls":11},{"$f":"入力シート!E68","v":0},null,{"$f":"入力シート!F68","v":0},{"$nulls":7},{"$f":"入力シート!G68","v":0}]
[{"$f":"入力シート!B69","v":0},null,null,{"$f":"入力シート!C69","v":0},null,{"$f":"入力シート!D69","v":0},{"$nulls":11},{"$f":"入力シート!E69","v":0},null,{"$f":"入力シート!F69","v":0},{"$nulls":7},{"$f":"入力シート!G69","v":0}]
[{"$f":"入力シート!B70","v":0},null,null,{"$f":"入力シート!C70","v":0},null,{"$f":"入力シート!D70","v":0},{"$nulls":11},{"$f":"入力シート!E70","v":0},null,{"$f":"入力シート!F70","v":0},{"$nulls":7},{"$f":"入力シート!G70","v":0}]
[{"$f":"入力シート!B71","v":0},null,null,{"$f":"入力シート!C71","v":0},null,{"$f":"入力シート!D71","v":0},{"$nulls":11},{"$f":"入力シート!E71","v":0},null,{"$f":"入力シート!F71","v":0},{"$nulls":7},{"$f":"入力シート!G71","v":0}]
[{"$f":"入力シート!B72","v":0},null,null,{"$f":"入力シート!C72","v":0},null,{"$f":"入力シート!D72","v":0},{"$nulls":11},{"$f":"入力シート!E72","v":0},null,{"$f":"入力シート!F72","v":0},{"$nulls":7},{"$f":"入力シート!G72","v":0}]
[{"$f":"入力シート!B73","v":0},null,null,{"$f":"入力シート!C73","v":0},null,{"$f":"入力シート!D73","v":0},{"$nulls":11},{"$f":"入力シート!E73","v":0},null,{"$f":"入力シート!F73","v":0},{"$nulls":7},{"$f":"入力シート!G73","v":0}]
[]
[null,"上記大会に参加申し込みをいたします",{"$nulls":18},{"$f":"入力シート!D19","v":0}]
[{"$nulls":16},"責任代表者"]

{"sheet":"メンバー提出用紙","index":2,"n_rows":36,"n_cols":16,"rows_kept":36,"cut":false,"hidden":false,"merged":[[32,0,32,4],[32,5,32,17],[33,1,33,17],[34,1,34,17],[35,1,35,17],[0,0,0,10],[0,11,0,17],[31,0,31,1],[31,2,31,4],[31,5,31,10],[31,11,31,12],[31,13,31,14],[31,15,31,17],[30,0,30,1],[30,2,30,4],[30,5,30,10],[30,11,30,12],[30,13,30,14],[30,15,30,17],[29,0,29,1],[29,2,29,4],[29,5,29,10],[29,11,29,12],[29,13,29,14],[29,15,29,17],[28,0,28,1],[28,2,28,4],[28,5,28,10],[28,11,28,12],[28,13,28,14],[28,15,28,17],[27,0,27,1],[27,2,27,4],[27,5,27,10],[27,11,27,12],[27,13,27,14],[27,15,27,17],[26,0,26,1],[26,2,26,4],[26,5,26,10],[26,11,26,12],[26,13,26,14],[26,15,26,17],[25,0,25,1],[25,2,25,4],[25,5,25,10],[25,11,25,12],[25,13,25,14],[25,15,25,17],[24,0,24,1],[24,2,24,4],[24,5,24,10],[24,11,24,12],[24,13,24,14],[24,15,24,17],[23,0,23,1],[23,2,23,4],[23,5,23,10],[23,11,23,12],[23,13,23,14],[23,15,23,17],[22,0,22,1],[22,2,22,4],[22,5,22,10],[22,11,22,12],[22,13,22,14],[22,15,22,17],[21,0,21,1],[21,2,21,4],[21,5,21,10],[21,11,21,12],[21,13,21,14],[21,15,21,17],[20,0,20,1],[20,2,20,4],[20,5,20,10],[20,11,20,12],[20,13,20,14],[20,15,20,17],[19,0,19,1],[19,2,19,4],[19,5,19,10],[19,11,19,12],[19,13,19,14],[19,15,19,17],[18,0,18,1],[18,2,18,4],[18,5,18,10],[18,11,18,12],[18,13,18,14],[18,15,18,17],[17,0,17,1],[17,2,17,4],[17,5,17,10],[17,11,17,12],[17,13,17,14],[17,15,17,17],[16,0,16,1],[16,2,16,4],[16,5,16,10],[16,11,16,12],[16,13,16,14],[16,15,16,17],[15,0,15,1],[15,2,15,4],[15,5,15,10],[15,11,15,12],[15,13,15,14],[15,15,15,17],[14,0,14,1],[14,2,14,4],[14,5,14,10],[14,11,14,12],[14,13,14,14],[14,15,14,17],[13,0,13,1],[13,2,13,4],[13,5,13,10],[13,11,13,12],[13,13,13,14],[13,15,13,17],[12,0,12,1],[12,2,12,4],[12,5,12,10],[12,11,12,12],[12,13,12,14],[12,15,12,17],[11,0,11,1],[11,2,11,4],[11,5,11,10],[11,11,11,12],[11,13,11,14],[11,15,11,17],[10,0,10,1],[10,2,10,4],[10,5,10,10],[10,11,10,12],[10,13,10,14],[10,15,10,17],[9,0,9,1],[9,2,9,4],[9,5,9,10],[9,11,9,12],[9,13,9,14],[9,15,9,17],[8,0,8,1],[8,2,8,4],[8,5,8,10],[8,11,8,12],[8,13,8,14],[8,15,8,17],[7,0,7,1],[7,2,7,4],[7,5,7,10],[7,11,7,12],[7,13,7,14],[7,15,7,17],[6,0,6,1],[6,2,6,4],[6,5,6,10],[6,11,6,12],[6,13,6,14],[6,15,6,17],[4,1,4,3],[4,4,4,6],[4,7,4,9],[4,10,4,12],[4,13,4,17],[5,1,5,3],[5,4,5,6],[5,7,5,9],[5,10,5,12],[5,13,5,17],[2,13,2,17],[3,1,3,3],[3,4,3,6],[3,7,3,9],[3,10,3,12],[3,13,3,17],[1,0,1,2],[1,3,1,9],[1,10,1,12],[1,13,1,17],[2,0,5,0],[2,1,2,3],[2,4,2,6],[2,7,2,9],[2,10,2,12]]}
[{"$f":"入力シート!B8","v":"令和３年度　第３６回　鹿児島市U-13サッカー大会"},{"$nulls":10},"メンバー提出用紙"]
["チーム名",null,null,{"$f":"入力シート!D13","v":0},{"$nulls":6},"監督名",null,null,{"$f":"入力シート!D15","v":0}]
["ユニホーム","シャツ",null,null,{"$f":"入力シート!D30","v":0},null,null,{"$f":"入力シート!D33","v":0},null,null,"コーチ名",null,null,{"$f":"入力シート!D16","v":0}]
[null,"ショーツ",null,null,{"$f":"入力シート!D31","v":0},null,null,{"$f":"入力シート!D34","v":0},null,null,"コーチ名",null,null,{"$f":"入力シート!D17","v":0}]
[null,"ソックス",null,null,{"$f":"入力シート!D32","v":0},null,null,{"$f":"入力シート!D35","v":0},null,null,"対戦相手"]
[null,"GKシャツ",null,null,{"$f":"入力シート!D36","v":0},null,null,{"$f":"入力シート!D39","v":0},null,null,"会場/試合順"]
["背番号",null,"位置",null,null,"氏名",{"$nulls":5},"先発",null,"控え",null,"備考"]
[{"$f":"入力シート!B49","v":0},null,"GK・DF・MF・FW",null,null,{"$f":"入力シート!D49","v":0}]
[{"$f":"入力シート!B50","v":0},null,"GK・DF・MF・FW",null,null,{"$f":"入力シート!D50","v":0}]
[{"$f":"入力シート!B51","v":0},null,"GK・DF・MF・FW",null,null,{"$f":"入力シート!D51","v":0}]
[{"$f":"入力シート!B52","v":0},null,"GK・DF・MF・FW",null,null,{"$f":"入力シート!D52","v":0}]
[{"$f":"入力シート!B53","v":0},null,"GK・DF・MF・FW",null,null,{"$f":"入力シート!D53","v":0}]
[{"$f":"入力シート!B54","v":0},null,"GK・DF・MF・FW",null,null,{"$f":"入力シート!D54","v":0}]
[{"$f":"入力シート!B55","v":0},null,"GK・DF・MF・FW",null,null,{"$f":"入力シート!D55","v":0}]
[{"$f":"入力シート!B56","v":0},null,"GK・DF・MF・FW",null,null,{"$f":"入力シート!D56","v":0}]
[{"$f":"入力シート!B57","v":0},null,"GK・DF・MF・FW",null,null,{"$f":"入力シート!D57","v":0}]
[{"$f":"入力シート!B58","v":0},null,"GK・DF・MF・FW",null,null,{"$f":"入力シート!D58","v":0}]
[{"$f":"入力シート!B59","v":0},null,"GK・DF・MF・FW",null,null,{"$f":"入力シート!D59","v":0}]
[{"$f":"入力シート!B60","v":0},null,"GK・DF・MF・FW",null,null,{"$f":"入力シート!D60","v":0}]
[{"$f":"入力シート!B61","v":0},null,"GK・DF・MF・FW",null,null,{"$f":"入力シート!D61","v":0}]
[{"$f":"入力シート!B62","v":0},null,"GK・DF・MF・FW",null,null,{"$f":"入力シート!D62","v":0}]
[{"$f":"入力シート!B63","v":0},null,"GK・DF・MF・FW",null,null,{"$f":"入力シート!D63","v":0}]
[{"$f":"入力シート!B64","v":0},null,"GK・DF・MF・FW",null,null,{"$f":"入力シート!D64","v":0}]
[{"$f":"入力シート!B65","v":0},null,"GK・DF・MF・FW",null,null,{"$f":"入力シート!D65","v":0}]
[{"$f":"入力シート!B66","v":0},null,"GK・DF・MF・FW",null,null,{"$f":"入力シート!D66","v":0}]
[{"$f":"入力シート!B67","v":0},null,"GK・DF・MF・FW",null,null,{"$f":"入力シート!D67","v":0}]
[{"$f":"入力シート!B68","v":0},null,"GK・DF・MF・FW",null,null,{"$f":"入力シート!D68","v":0}]
[{"$f":"入力シート!B69","v":0},null,"GK・DF・MF・FW",null,null,{"$f":"入力シート!D69","v":0}]
[{"$f":"入力シート!B70","v":0},null,"GK・DF・MF・FW",null,null,{"$f":"入力シート!D70","v":0}]
[{"$f":"入力シート!B71","v":0},null,"GK・DF・MF・FW",null,null,{"$f":"入力シート!D71","v":0}]
[{"$f":"入力シート!B72","v":0},null,"GK・DF・MF・FW",null,null,{"$f":"入力シート!D72","v":0}]
[{"$f":"入力シート!B73","v":0},null,"GK・DF・MF・FW",null,null,{"$f":"入力シート!D73","v":0}]
["監督署名"]
["＊","先発の11人には先発の欄に○印，控えの選手は控えの欄に△印を記入する。"]
["＊","ユニホーム欄の使用するユニホームに○を付ける。"]
["＊","選手の位置に○印を付ける。"]

{"sheet":"パンフ用","index":3,"n_rows":32,"n_cols":14,"rows_kept":32,"cut":false,"hidden":false,"merged":[[29,12,29,13],[26,0,26,1],[26,2,26,4],[27,0,27,1],[27,2,27,4],[28,0,28,1],[28,2,28,4],[29,0,31,0],[29,1,29,2],[29,4,29,5],[30,1,30,2],[30,4,30,5],[30,9,30,10],[31,1,31,2],[31,4,31,5],[31,9,31,10],[29,9,29,10],[22,0,22,1],[22,2,22,4],[23,0,23,1],[23,2,23,4],[24,0,24,1],[24,2,24,4],[25,0,25,1],[25,2,25,4],[29,8,31,8],[20,0,20,1],[20,2,20,4],[21,0,21,1],[21,2,21,4],[18,0,18,1],[18,2,18,4],[19,0,19,1],[19,2,19,4],[16,0,16,1],[16,2,16,4],[17,0,17,1],[17,2,17,4],[14,0,14,1],[14,2,14,4],[15,0,15,1],[15,2,15,4],[12,0,12,1],[12,2,12,4],[13,0,13,1],[13,2,13,4],[10,0,10,1],[10,2,10,4],[11,0,11,1],[11,2,11,4],[8,0,8,1],[8,2,8,4],[9,0,9,1],[9,2,9,4],[7,0,7,1],[7,2,7,4],[3,10,3,12],[6,0,6,1],[6,2,6,4],[0,0,0,1],[0,2,0,5],[1,0,1,1],[1,2,1,5],[2,0,2,1],[2,2,2,5],[4,0,4,1],[4,2,4,4],[5,0,5,1],[5,2,5,4],[3,0,3,1],[3,2,3,4]]}
["チーム名",null,{"$f":"入力シート!D13","v":0},{"$nulls":5},"チーム名",null,{"$f":"C1","v":0}]
["監督名",null,{"$f":"入力シート!D15","v":0},{"$nulls":5},"監督名",null,{"$f":"C2","v":0}]
["コーチ名",null,{"$f":"CONCATENATE(入力シート!D16,\"  \",入力シート!D17)","v":"  "},{"$nulls":5},"コーチ名",null,{"$f":"C3","v":"  "}]
["背番号",null,"氏　　　名",null,null,"学年",null,null,"背番号",null,"氏　　　名",null,null,"学年"]
[{"$f":"入力シート!B49","v":0},null,{"$f":"入力シート!D49","v":0},null,null,{"$f":"入力シート!E49","v":0},null,null,{"$f":"A5","v":0},null,{"$f":"C5","v":0},null,null,{"$f":"F5","v":0}]
[{"$f":"入力シート!B50","v":0},null,{"$f":"入力シート!D50","v":0},null,null,{"$f":"入力シート!E50","v":0},null,null,{"$f":"A6","v":0},null,{"$f":"C6","v":0},null,null,{"$f":"F6","v":0}]
[{"$f":"入力シート!B51","v":0},null,{"$f":"入力シート!D51","v":0},null,null,{"$f":"入力シート!E51","v":0},null,null,0,null,0,null,null,0]
[{"$f":"入力シート!B52","v":0},null,{"$f":"入力シート!D52","v":0},null,null,{"$f":"入力シート!E52","v":0},null,null,0,null,0,null,null,0]
[{"$f":"入力シート!B53","v":0},null,{"$f":"入力シート!D53","v":0},null,null,{"$f":"入力シート!E53","v":0},null,null,0,null,0,null,null,0]
[{"$f":"入力シート!B54","v":0},null,{"$f":"入力シート!D54","v":0},null,null,{"$f":"入力シート!E54","v":0},null,null,0,null,0,null,null,0]
[{"$f":"入力シート!B55","v":0},null,{"$f":"入力シート!D55","v":0},null,null,{"$f":"入力シート!E55","v":0},null,null,0,null,0,null,null,0]
[{"$f":"入力シート!B56","v":0},null,{"$f":"入力シート!D56","v":0},null,null,{"$f":"入力シート!E56","v":0},null,null,0,null,0,null,null,0]
[{"$f":"入力シート!B57","v":0},null,{"$f":"入力シート!D57","v":0},null,null,{"$f":"入力シート!E57","v":0},null,null,0,null,0,null,null,0]
[{"$f":"入力シート!B58","v":0},null,{"$f":"入力シート!D58","v":0},null,null,{"$f":"入力シート!E58","v":0},null,null,0,null,0,null,null,0]
[{"$f":"入力シート!B59","v":0},null,{"$f":"入力シート!D59","v":0},null,null,{"$f":"入力シート!E59","v":0},null,null,0,null,0,null,null,0]
[{"$f":"入力シート!B60","v":0},null,{"$f":"入力シート!D60","v":0},null,null,{"$f":"入力シート!E60","v":0},null,null,0,null,0,null,null,0]
[{"$f":"入力シート!B61","v":0},null,{"$f":"入力シート!D61","v":0},null,null,{"$f":"入力シート!E61","v":0},null,null,0,null,0,null,null,0]
[{"$f":"入力シート!B62","v":0},null,{"$f":"入力シート!D62","v":0},null,null,{"$f":"入力シート!E62","v":0},null,null,0,null,0,null,null,0]
[{"$f":"入力シート!B63","v":0},null,{"$f":"入力シート!D63","v":0},null,null,{"$f":"入力シート!E63","v":0},null,null,0,null,0,null,null,0]
[{"$f":"入力シート!B64","v":0},null,{"$f":"入力シート!D64","v":0},null,null,{"$f":"入力シート!E64","v":0},null,null,0,null,0,null,null,0]
[{"$f":"入力シート!B65","v":0},null,{"$f":"入力シート!D65","v":0},null,null,{"$f":"入力シート!E65","v":0},null,null,0,null,0,null,null,0]
[{"$f":"入力シート!B66","v":0},null,{"$f":"入力シート!D66","v":0},null,null,{"$f":"入力シート!E66","v":0},null,null,0,null,0,null,null,0]
[{"$f":"入力シート!B67","v":0},null,{"$f":"入力シート!D67","v":0},null,null,{"$f":"入力シート!E67","v":0},null,null,0,null,0,null,null,0]
[{"$f":"入力シート!B68","v":0},null,{"$f":"入力シート!D68","v":0},null,null,{"$f":"入力シート!E68","v":0},null,null,0,null,0,null,null,0]
[{"$f":"入力シート!B69","v":0},null,{"$f":"入力シート!D69","v":0},null,null,{"$f":"入力シート!E69","v":0},null,null,0,null,0,null,null,0]
[{"$f":"入力シート!B70","v":0},null,{"$f":"入力シート!D70","v":0},null,null,{"$f":"入力シート!E70","v":0},null,null,0,null,0,null,null,0]
[{"$f":"入力シート!B71","v":0},null,{"$f":"入力シート!D71","v":0},null,null,{"$f":"入力シート!E71","v":0},null,null,0,null,0,null,null,0]
[{"$f":"入力シート!B72","v":0},null,{"$f":"入力シート!D72","v":0},null,null,{"$f":"入力シート!E72","v":0},null,null,0,null,0,null,null,0]
[{"$f":"入力シート!B73","v":0},null,{"$f":"入力シート!D73","v":0},null,null,{"$f":"入力シート!E73","v":0},null,null,0,null,0,null,null,0]
["ユニフォーム",null,null,"フィールド","GK",null,null,null,"ユニフォーム",null,null,"フィールド","GK"]
[null,"正",null,{"$f":"入力シート!D30","v":0},{"$f":"入力シート!D36","v":0},{"$nulls":4},"正",null,{"$f":"D31","v":0},{"$f":"E31","v":0}]
[null,"副",null,{"$f":"入力シート!D33","v":0},{"$f":"入力シート!D39","v":0},{"$nulls":4},"副",null,{"$f":"D32","v":0},{"$f":"E32","v":0}]

{"sheet":"交代票","index":4,"n_rows":22,"n_cols":20,"rows_kept":22,"cut":false,"hidden":false,"merged":[[0,1,0,9],[0,12,0,20],[1,1,1,4],[1,6,1,9],[1,12,1,15],[1,17,1,20],[2,17,2,18],[2,19,2,20],[3,1,3,2],[3,3,3,7],[3,8,3,9],[3,12,3,13],[3,14,3,18],[3,19,3,20],[2,1,2,2],[2,3,2,5],[2,6,2,7],[2,8,2,9],[2,12,2,13],[2,14,2,16],[5,19,5,20],[4,1,4,2],[4,3,4,7],[4,8,4,9],[4,12,4,13],[4,14,4,18],[4,19,4,20],[5,1,5,2],[5,3,5,7],[5,8,5,9],[5,12,5,13],[5,14,5,18],[6,16,7,20],[7,1,7,2],[7,3,7,4],[7,12,7,13],[7,14,7,15],[6,1,6,2],[6,3,6,4],[6,5,7,9],[6,12,6,13],[6,14,6,15],[8,1,9,9],[8,12,9,20],[10,1,10,9],[10,12,10,20],[11,1,11,9],[11,12,11,20],[14,12,14,13],[14,14,14,18],[12,1,12,4],[12,6,12,9],[12,12,12,15],[12,17,12,20],[13,1,13,2],[13,3,13,5],[13,6,13,7],[13,8,13,9],[13,12,13,13],[13,14,13,16],[13,17,13,18],[13,19,13,20],[14,19,14,20],[14,1,14,2],[16,19,16,20],[15,1,15,2],[15,3,15,7],[15,8,15,9],[15,12,15,13],[15,14,15,18],[15,19,15,20],[16,1,16,2],[16,3,16,7],[16,8,16,9],[16,12,16,13],[16,14,16,18],[14,3,14,7],[14,8,14,9],[19,1,20,9],[19,12,20,20],[21,1,21,9],[21,12,21,20],[17,1,17,2],[17,3,17,4],[17,5,18,9],[17,12,17,13],[17,14,17,15],[17,16,18,20],[18,1,18,2],[18,3,18,4],[18,12,18,13],[18,14,18,15]]}
[null,"選　手　交　代　票",{"$nulls":10},"選　手　交　代　票"]
[{"$nulls":5},"VS",{"$nulls":10},"VS"]
[null,"自チーム名",{"$nulls":4},"後半\n交代回数",{"$nulls":5},"自チーム名",{"$nulls":4},"後半\n交代回数"]
[null,null,null,"氏　　　　　名",{"$nulls":4},"背番号",{"$nulls":5},"氏　　　　　名",{"$nulls":4},"背番号"]
[null,"入　　場",{"$nulls":10},"入　　場"]
[null,"退　　場",{"$nulls":10},"退　　場"]
[null,"日　　付",null,"会　　場",null,"1st(前半)　　　　　　　　　分\n\n　HALF TIME\n\n2nd(後半)　　　　　　　　　分",{"$nulls":6},"日　　付",null,"会　　場",null,"1st(前半)　　　　　　　　　分\n\n　HALF TIME\n\n2nd(後半)　　　　　　　　　分"]
[]
[null,"監督・コーチ署名（自署）",{"$nulls":10},"監督・コーチ署名（自署）"]
[]
[null,"鹿児島市サッカー協会３種委員会",{"$nulls":10},"鹿児島市サッカー協会３種委員会"]
[null,"選　手　交　代　票",{"$nulls":10},"選　手　交　代　票"]
[{"$nulls":5},"VS",{"$nulls":10},"VS"]
[null,"自チーム名",{"$nulls":4},"後半\n交代回数",{"$nulls":5},"自チーム名",{"$nulls":4},"後半\n交代回数"]
[null,null,null,"氏　　　　　名",{"$nulls":4},"背番号",{"$nulls":5},"氏　　　　　名",{"$nulls":4},"背番号"]
[null,"入　　場",{"$nulls":10},"入　　場"]
[null,"退　　場",{"$nulls":10},"退　　場"]
[null,"日　　付",null,"会　　場",null,"1st(前半)　　　　　　　　　分\n\n　HALF TIME\n\n2nd(後半)　　　　　　　　　分",{"$nulls":6},"日　　付",null,"会　　場",null,"1st(前半)　　　　　　　　　分\n\n　HALF TIME\n\n2nd(後半)　　　　　　　　　分"]
[]
[null,"監督・コーチ署名（自署）",{"$nulls":10},"監督・コーチ署名（自署）"]
[]
[null,"鹿児島市サッカー協会３種委員会",{"$nulls":10},"鹿児島市サッカー協会３種委員会"]

{"sheet":"チェックシート（参加チーム用）","index":5,"n_rows":38,"n_cols":9,"rows_kept":38,"cut":false,"hidden":false,"merged":[[28,1,29,7],[33,3,33,8],[22,1,22,7],[23,1,23,7],[24,1,24,7],[25,1,25,7],[26,1,26,7],[27,1,27,7],[21,1,21,7],[1,1,1,8],[2,1,2,8],[7,1,8,1],[19,1,19,7],[20,1,20,7]]}
[{"$nulls":8},"※参加チーム用"]
[null,"健康チェックシート"]
[null,"本健康チェックシートは、鹿児島県サッカー協会が開催する各種大会において新型コロナウイルス感染症の拡大を防止するため、参加者の健康状態を確認することを目的としています。\n本健康チェックシートに記入いただいた個人情報について、鹿児島県サッカー協会は、厳正なる管理のもとに保管し、チーム関係者の健康状態の把握、来場可否の判断および必要なご連絡のためにのみ利用します。また、個人情報保護法等の法令において認められる場合を除きご本人の同意を得ずに第三者に提供いたしません。但し、大会会場にて感染症患者またはその疑いのある方が発見された場合に必要な範囲で保健所等に提供することがあります。"]
[]
[null,"＜基本情報＞"]
[null,"チーム名",null,null,null,"代表者\n連絡先"]
[null,"フリガナ",null,null,null,"生年月日","西暦　　　　　年","月","日"]
[null,"氏名",null,null,null,"電話番号"]
[{"$nulls":5},"Eメール\nアドレス"]
[null,"住所","〒"]
[]
[null,"＜大会当日までの体温＞"]
[null,"日付","起床時体温","日付","起床時体温","日付","起床時体温","日付","起床時体温"]
[null,null,"℃",null,"℃",null,"℃",null,"℃"]
[null,null,"℃",null,"℃",null,"℃",null,"℃"]
[null,null,"℃",null,"℃",null,"℃",null,"℃"]
[null,null,"℃",null,"℃",null,"℃",null,"℃"]
[]
[null,"＜大会前２週間における健康状態＞　　※該当するものに「✓」を記入してください。"]
[null,"チェック項目",{"$nulls":6},"チェック欄"]
[null,"①　平熱を超える発熱がない"]
[null,"②　咳（せき）、のどの痛みなどの　風邪症状がない"]
[null,"③　だるさ（倦怠感）、息苦しさ（呼吸困難）がない"]
[null,"④　臭覚や味覚の異常がない"]
[null,"⑤　体が重く感じる、疲れやすい等がない"]
[null,"⑥　新型コロナウイルス感染症陽性とされた者との濃厚接触がない"]
[null,"⑦　同居家族や身近な知人に感染が疑われる方がいない"]
[null,"⑧　過去１４日以内に政府から入国制限、入国後の観察期間が必要とされている国、地域等への渡航又は当該在住者との濃厚接触がない"]
[null,"⑨　その他、気になること（以下に自由記述）"]
[]
[]
[null,"（大会参加者が未成年の場合）保護者　確認欄"]
[]
[null,"保護者　氏名"]
[]
[null,"電話番号",null,null,null,"Eメールアドレス"]
[]
[null,null,"確認日","西暦","年",null,"月",null,"日"]